BEGIN:VCALENDAR
VERSION:2.0
PRODID:-//UP Chicago - ECPv6.15.17.1//NONSGML v1.0//EN
CALSCALE:GREGORIAN
METHOD:PUBLISH
X-ORIGINAL-URL:https://upchicago.org
X-WR-CALDESC:Events for UP Chicago
REFRESH-INTERVAL;VALUE=DURATION:PT1H
X-Robots-Tag:noindex
X-PUBLISHED-TTL:PT1H
BEGIN:VTIMEZONE
TZID:America/Chicago
BEGIN:DAYLIGHT
TZOFFSETFROM:-0600
TZOFFSETTO:-0500
TZNAME:CDT
DTSTART:20240310T080000
END:DAYLIGHT
BEGIN:STANDARD
TZOFFSETFROM:-0500
TZOFFSETTO:-0600
TZNAME:CST
DTSTART:20241103T070000
END:STANDARD
BEGIN:DAYLIGHT
TZOFFSETFROM:-0600
TZOFFSETTO:-0500
TZNAME:CDT
DTSTART:20250309T080000
END:DAYLIGHT
BEGIN:STANDARD
TZOFFSETFROM:-0500
TZOFFSETTO:-0600
TZNAME:CST
DTSTART:20251102T070000
END:STANDARD
BEGIN:DAYLIGHT
TZOFFSETFROM:-0600
TZOFFSETTO:-0500
TZNAME:CDT
DTSTART:20260308T080000
END:DAYLIGHT
BEGIN:STANDARD
TZOFFSETFROM:-0500
TZOFFSETTO:-0600
TZNAME:CST
DTSTART:20261101T070000
END:STANDARD
END:VTIMEZONE
BEGIN:VEVENT
DTSTART;TZID=America/Chicago:20250125T100000
DTEND;TZID=America/Chicago:20250125T133000
DTSTAMP:20260423T205544
CREATED:20241223T154753Z
LAST-MODIFIED:20241223T154753Z
UID:24608-1737799200-1737811800@upchicago.org
SUMMARY:ROBOTICS SAFARI - LET'S LEARN\, EXPLORE & CREATE!
DESCRIPTION:Unlimited Potential Chicago LLC invites you to our Robotics Safari event! \nTo inspire the next generation of innovators through engaging STEM experiences. \nThis hands-on\, interactive event is designed for kids to spark creativity\, curiosity\, and a passion for STEM. \nEvent Highlights:\n\nWhat: Robotics Safari – A fun and educational event packed with robotics activities for kids.\nWho: Children ages 5–14 years.\nWhen: Saturday\, January 25th\, 2025\n\nTime: 10:00 AM – 1:30 PM\n\n\nWhere:  WEST ENGLEWOOD LIBRARY 1745 W 63rd St Chicago\, IL 60636.\nLunch will be provided!\n\nWhy Attend?\n\n\n\nHands-on robotics workshops\nEngaging age-appropriate activities for different skill levels\nOpportunity to build robots\nMeet other young innovators and discover the exciting world of STEM\n\n\n\nRSVP Information:\n\nDeadline: RSVP by January 18th\, 2025\nHow: Call or Text us at 📞 (847) 989-4872
URL:https://upchicago.org/event/robotics-safari-lets-learn-explore-create/
CATEGORIES:Robotics
ATTACH;FMTTYPE=image/webp:https://upchicago.org/wp-content/uploads/2024/12/DALL·E-2024-12-23-09.46.09-A-vibrant-and-engaging-banner-for-a-childrens-robotics-event-featuring-a-diverse-group-of-kids_-two-Black-girls-one-Black-boy-one-Hispanic-child-.webp
ORGANIZER;CN="Unlimited Potential Chicago":MAILTO:info@upchicago.org
END:VEVENT
END:VCALENDAR